BEGIN:VCALENDAR
VERSION:2.0
PRODID:-//DorfKultur Dittersbach e.V. - ECPv6.15.20//NONSGML v1.0//EN
CALSCALE:GREGORIAN
METHOD:PUBLISH
X-WR-CALNAME:DorfKultur Dittersbach e.V.
X-ORIGINAL-URL:https://dorfkulturdittersbach.de
X-WR-CALDESC:Veranstaltungen für DorfKultur Dittersbach e.V.
REFRESH-INTERVAL;VALUE=DURATION:PT1H
X-Robots-Tag:noindex
X-PUBLISHED-TTL:PT1H
BEGIN:VTIMEZONE
TZID:UTC
BEGIN:STANDARD
TZOFFSETFROM:+0000
TZOFFSETTO:+0000
TZNAME:UTC
DTSTART:20230101T000000
END:STANDARD
END:VTIMEZONE
BEGIN:VEVENT
DTSTART;TZID=UTC:20240608T100000
DTEND;TZID=UTC:20240609T130000
DTSTAMP:20260419T214742
CREATED:20240522T203658Z
LAST-MODIFIED:20240522T203658Z
UID:134-1717840800-1717938000@dorfkulturdittersbach.de
SUMMARY:Dorffest
DESCRIPTION:
URL:https://dorfkulturdittersbach.de/event/dorffest/
LOCATION:Sachsen
END:VEVENT
END:VCALENDAR