BEGIN:VCALENDAR
VERSION:2.0
PRODID:-//DorfKultur Dittersbach e.V. - ECPv6.15.20//NONSGML v1.0//EN
CALSCALE:GREGORIAN
METHOD:PUBLISH
X-WR-CALNAME:DorfKultur Dittersbach e.V.
X-ORIGINAL-URL:https://dorfkulturdittersbach.de
X-WR-CALDESC:Veranstaltungen für DorfKultur Dittersbach e.V.
REFRESH-INTERVAL;VALUE=DURATION:PT1H
X-Robots-Tag:noindex
X-PUBLISHED-TTL:PT1H
BEGIN:VTIMEZONE
TZID:UTC
BEGIN:STANDARD
TZOFFSETFROM:+0000
TZOFFSETTO:+0000
TZNAME:UTC
DTSTART:20230101T000000
END:STANDARD
END:VTIMEZONE
BEGIN:VEVENT
DTSTART;TZID=UTC:20240809T180000
DTEND;TZID=UTC:20240810T010000
DTSTAMP:20260419T144800
CREATED:20240804T212700Z
LAST-MODIFIED:20240804T212700Z
UID:308-1723226400-1723251600@dorfkulturdittersbach.de
SUMMARY:Gemütlicher Sommerabend am Teich
DESCRIPTION:
URL:https://dorfkulturdittersbach.de/event/gemuetlicher-sommerabend-am-teich/
LOCATION:Bürgerhaus\, Dorfstraße 14\, Dittersbach\, Sachsen\, 09669\, Deutschland
END:VEVENT
BEGIN:VEVENT
DTSTART;TZID=UTC:20240811T160000
DTEND;TZID=UTC:20240811T183000
DTSTAMP:20260419T144800
CREATED:20240804T214039Z
LAST-MODIFIED:20240804T214039Z
UID:312-1723392000-1723401000@dorfkulturdittersbach.de
SUMMARY:Erntekrone binden
DESCRIPTION:Auch dieses Jahr wird wieder eine Erntekrone gebunden. \nWer hierbei unterstützen möchte\, kann gern zum Treffen der \nDittersbacher Dorffrauen vorbeikommen. \nAnmeldung bitte bei Elke Bischoff: \ninfo@ferienhof-bischoff.de
URL:https://dorfkulturdittersbach.de/event/erntekrone-binden/
LOCATION:Ferienhof Bischoff\, Dorfstraße 2\, Frankenberg\, Sachsen\, 09669\, Deutschland
ORGANIZER;CN="Ferienhof Bischoff":MAILTO:info@ferienhof-bischoff.de
END:VEVENT
END:VCALENDAR